BEGIN:VCALENDAR
VERSION:2.0
PRODID:-//Homestead Pub - ECPv6.15.20//NONSGML v1.0//EN
CALSCALE:GREGORIAN
METHOD:PUBLISH
X-WR-CALNAME:Homestead Pub
X-ORIGINAL-URL:https://thehomesteadpub.ca
X-WR-CALDESC:Events for Homestead Pub
REFRESH-INTERVAL;VALUE=DURATION:PT1H
X-Robots-Tag:noindex
X-PUBLISHED-TTL:PT1H
BEGIN:VTIMEZONE
TZID:America/New_York
BEGIN:DAYLIGHT
TZOFFSETFROM:-0500
TZOFFSETTO:-0400
TZNAME:EDT
DTSTART:20240310T070000
END:DAYLIGHT
BEGIN:STANDARD
TZOFFSETFROM:-0400
TZOFFSETTO:-0500
TZNAME:EST
DTSTART:20241103T060000
END:STANDARD
BEGIN:DAYLIGHT
TZOFFSETFROM:-0500
TZOFFSETTO:-0400
TZNAME:EDT
DTSTART:20250309T070000
END:DAYLIGHT
BEGIN:STANDARD
TZOFFSETFROM:-0400
TZOFFSETTO:-0500
TZNAME:EST
DTSTART:20251102T060000
END:STANDARD
BEGIN:DAYLIGHT
TZOFFSETFROM:-0500
TZOFFSETTO:-0400
TZNAME:EDT
DTSTART:20260308T070000
END:DAYLIGHT
BEGIN:STANDARD
TZOFFSETFROM:-0400
TZOFFSETTO:-0500
TZNAME:EST
DTSTART:20261101T060000
END:STANDARD
END:VTIMEZONE
BEGIN:VEVENT
DTSTART;TZID=America/New_York:20250914T200000
DTEND;TZID=America/New_York:20250914T230000
DTSTAMP:20260423T065845
CREATED:20250915T032407Z
LAST-MODIFIED:20250915T032407Z
UID:1627-1757880000-1757890800@thehomesteadpub.ca
SUMMARY:LIVE MUSIC - DIMESTORE PLAYBOYS
DESCRIPTION:
URL:https://thehomesteadpub.ca/evnet/live-music-dimestore-playboys/
END:VEVENT
BEGIN:VEVENT
DTSTART;TZID=America/New_York:20250914T080000
DTEND;TZID=America/New_York:20250914T170000
DTSTAMP:20260423T065845
CREATED:20250915T033454Z
LAST-MODIFIED:20250915T033454Z
UID:1630-1757836800-1757869200@thehomesteadpub.ca
SUMMARY:Halloween Party
DESCRIPTION:***NO COVER FEE***\n***LIVE MUSIC***\nPRIZE FOR THE BEST COSTUME\n 
URL:https://thehomesteadpub.ca/evnet/halloween-party/
END:VEVENT
BEGIN:VEVENT
DTSTART;TZID=America/New_York:20250913T200000
DTEND;TZID=America/New_York:20250913T230000
DTSTAMP:20260423T065845
CREATED:20250808T152340Z
LAST-MODIFIED:20250913T150001Z
UID:1520-1757793600-1757804400@thehomesteadpub.ca
SUMMARY:LIVE MUSIC - Derek Martin
DESCRIPTION:  \n 
URL:https://thehomesteadpub.ca/evnet/live-music-alley-cat/
END:VEVENT
BEGIN:VEVENT
DTSTART;TZID=America/New_York:20250912T200000
DTEND;TZID=America/New_York:20250912T230000
DTSTAMP:20260423T065845
CREATED:20250808T152244Z
LAST-MODIFIED:20250905T134918Z
UID:1518-1757707200-1757718000@thehomesteadpub.ca
SUMMARY:LIVE MUSIC - DEREK JONES
DESCRIPTION:https://www.facebook.com/derekwaynejones/?utm_source=chatgpt.com \nblends pop/rock\, folk\, and adult contemporary styles \n  \n 
URL:https://thehomesteadpub.ca/evnet/live-music-derek-jones/
END:VEVENT
BEGIN:VEVENT
DTSTART;TZID=America/New_York:20250909T200000
DTEND;TZID=America/New_York:20250909T230000
DTSTAMP:20260423T065845
CREATED:20250909T174238Z
LAST-MODIFIED:20250909T174825Z
UID:1614-1757448000-1757458800@thehomesteadpub.ca
SUMMARY:Jayla Kirkley Duo
DESCRIPTION:https://www.facebook.com/jaylakirkeymusician
URL:https://thehomesteadpub.ca/evnet/jayla-kirkley-duo/
END:VEVENT
BEGIN:VEVENT
DTSTART;TZID=America/New_York:20250908T190000
DTEND;TZID=America/New_York:20250908T203000
DTSTAMP:20260423T065845
CREATED:20250813T035516Z
LAST-MODIFIED:20250905T114453Z
UID:1567-1757358000-1757363400@thehomesteadpub.ca
SUMMARY:Trivia Night with Phil
DESCRIPTION:
URL:https://thehomesteadpub.ca/evnet/trivia-night-with-phil-2/
END:VEVENT
BEGIN:VEVENT
DTSTART;TZID=America/New_York:20250906T200000
DTEND;TZID=America/New_York:20250906T230000
DTSTAMP:20260423T065845
CREATED:20250808T151635Z
LAST-MODIFIED:20250905T135139Z
UID:1510-1757188800-1757199600@thehomesteadpub.ca
SUMMARY:LIVE MUSIC - TONY KOMERY
DESCRIPTION:
URL:https://thehomesteadpub.ca/evnet/live-music-tony-spanish/
END:VEVENT
BEGIN:VEVENT
DTSTART;TZID=America/New_York:20250905T200000
DTEND;TZID=America/New_York:20250905T230000
DTSTAMP:20260423T065845
CREATED:20250808T151737Z
LAST-MODIFIED:20250815T132723Z
UID:1512-1757102400-1757113200@thehomesteadpub.ca
SUMMARY:LIVE MUSIC - LA Mixtape
DESCRIPTION:
URL:https://thehomesteadpub.ca/evnet/live-music-la-benifits/
END:VEVENT
BEGIN:VEVENT
DTSTART;TZID=America/New_York:20250901T070000
DTEND;TZID=America/New_York:20250901T203000
DTSTAMP:20260423T065845
CREATED:20250905T115053Z
LAST-MODIFIED:20250905T115053Z
UID:1584-1756710000-1756758600@thehomesteadpub.ca
SUMMARY:Trivia with Phil
DESCRIPTION:
URL:https://thehomesteadpub.ca/evnet/trivia-with-phil-5/
END:VEVENT
BEGIN:VEVENT
DTSTART;TZID=America/New_York:20250830T200000
DTEND;TZID=America/New_York:20250830T230000
DTSTAMP:20260423T065845
CREATED:20250721T170312Z
LAST-MODIFIED:20250721T170312Z
UID:1484-1756584000-1756594800@thehomesteadpub.ca
SUMMARY:LIVE MUSIC - DECIBEL CRUSH
DESCRIPTION:
URL:https://thehomesteadpub.ca/evnet/live-music-decibel-crush/
END:VEVENT
BEGIN:VEVENT
DTSTART;TZID=America/New_York:20250829T200000
DTEND;TZID=America/New_York:20250829T230000
DTSTAMP:20260423T065845
CREATED:20250721T170210Z
LAST-MODIFIED:20250801T155929Z
UID:1482-1756497600-1756508400@thehomesteadpub.ca
SUMMARY:LIVE MUSIC - ROXANNE DUO
DESCRIPTION:https://www.facebook.com/roxannedube6
URL:https://thehomesteadpub.ca/evnet/live-music-roxanne-duo/
END:VEVENT
BEGIN:VEVENT
DTSTART;TZID=America/New_York:20250826T190000
DTEND;TZID=America/New_York:20250826T203000
DTSTAMP:20260423T065845
CREATED:20250813T035311Z
LAST-MODIFIED:20250813T035311Z
UID:1565-1756234800-1756240200@thehomesteadpub.ca
SUMMARY:Trivia Night with Phil
DESCRIPTION:
URL:https://thehomesteadpub.ca/evnet/trivia-night-with-phil/
END:VEVENT
BEGIN:VEVENT
DTSTART;TZID=America/New_York:20250823T200000
DTEND;TZID=America/New_York:20250823T230000
DTSTAMP:20260423T065845
CREATED:20250721T170016Z
LAST-MODIFIED:20250802T042303Z
UID:1480-1755979200-1755990000@thehomesteadpub.ca
SUMMARY:LIVE MUSIC - SWITCHGEAR
DESCRIPTION:https://www.facebook.com/Switchgearband?rdid=98FP2w8ljXNNNHdu&share_url=https%3A%2F%2Fwww.facebook.com%2Fshare%2F177qzKUoeZ%2F# \n 
URL:https://thehomesteadpub.ca/evnet/live-music-switchgear/
END:VEVENT
BEGIN:VEVENT
DTSTART;TZID=America/New_York:20250822T200000
DTEND;TZID=America/New_York:20250822T230000
DTSTAMP:20260423T065845
CREATED:20250721T165922Z
LAST-MODIFIED:20250721T165922Z
UID:1478-1755892800-1755903600@thehomesteadpub.ca
SUMMARY:LIVE MUSIC - CHRIS ALLABY
DESCRIPTION:
URL:https://thehomesteadpub.ca/evnet/live-music-chris-allaby/
END:VEVENT
BEGIN:VEVENT
DTSTART;TZID=America/New_York:20250819T190000
DTEND;TZID=America/New_York:20250819T203000
DTSTAMP:20260423T065845
CREATED:20250813T034800Z
LAST-MODIFIED:20250813T034834Z
UID:1562-1755630000-1755635400@thehomesteadpub.ca
SUMMARY:Trivia Night with Phil
DESCRIPTION:
URL:https://thehomesteadpub.ca/evnet/trivia-with-phil-2/
LOCATION:In the pub
END:VEVENT
BEGIN:VEVENT
DTSTART;TZID=America/New_York:20250816T200000
DTEND;TZID=America/New_York:20250816T230000
DTSTAMP:20260423T065845
CREATED:20250721T165829Z
LAST-MODIFIED:20250726T052337Z
UID:1476-1755374400-1755385200@thehomesteadpub.ca
SUMMARY:LIVE MUSIC - NATE HARDY
DESCRIPTION:Check out Nate on YouTube
URL:https://thehomesteadpub.ca/evnet/live-music-nate-hardy/
END:VEVENT
BEGIN:VEVENT
DTSTART;TZID=America/New_York:20250815T200000
DTEND;TZID=America/New_York:20250815T230000
DTSTAMP:20260423T065845
CREATED:20250721T165735Z
LAST-MODIFIED:20250721T165735Z
UID:1474-1755288000-1755298800@thehomesteadpub.ca
SUMMARY:LIVE MUSIC - BEN COOPER
DESCRIPTION:
URL:https://thehomesteadpub.ca/evnet/live-music-ben-cooper/
END:VEVENT
BEGIN:VEVENT
DTSTART;TZID=America/New_York:20250809T130000
DTEND;TZID=America/New_York:20250809T190000
DTSTAMP:20260423T065845
CREATED:20250721T165224Z
LAST-MODIFIED:20250721T165319Z
UID:1466-1754744400-1754766000@thehomesteadpub.ca
SUMMARY:7th Anniversary with the Derringers
DESCRIPTION:🎉 Homestead Pub Presents 🎉Saturday\, August 97th Anniversary Party with The Derringers \n📍 Join us for an unforgettable celebration!🔥 Pig Roast🍺 Beer Gardens🎶 Live Music by The Derringers \n📍 Homestead PubLet’s celebrate 7 amazing years together! \nTICKETS CAN BE PURCHASED AT… \nhttps://www.eventbrite.ca/e/7th-anniversary-party-with-the-derringers-tickets-1481756175609 \n 
URL:https://thehomesteadpub.ca/evnet/7th-anniversary-with-the-derringers/
END:VEVENT
BEGIN:VEVENT
DTSTART;TZID=America/New_York:20250808T200000
DTEND;TZID=America/New_York:20250808T230000
DTSTAMP:20260423T065845
CREATED:20250721T165632Z
LAST-MODIFIED:20250726T052539Z
UID:1472-1754683200-1754694000@thehomesteadpub.ca
SUMMARY:LIVE MUSIC - RYAN KING
DESCRIPTION:
URL:https://thehomesteadpub.ca/evnet/live-music-ryan-king/
END:VEVENT
BEGIN:VEVENT
DTSTART;TZID=America/New_York:20250803T110000
DTEND;TZID=America/New_York:20250804T230000
DTSTAMP:20260423T065845
CREATED:20250716T043947Z
LAST-MODIFIED:20250716T044039Z
UID:1457-1754218800-1754348400@thehomesteadpub.ca
SUMMARY:Closed Sunday and Monday!!!
DESCRIPTION:
URL:https://thehomesteadpub.ca/evnet/closed-for-holiday/
END:VEVENT
BEGIN:VEVENT
DTSTART;TZID=America/New_York:20250802T200000
DTEND;TZID=America/New_York:20250802T230000
DTSTAMP:20260423T065845
CREATED:20250721T165538Z
LAST-MODIFIED:20250721T165538Z
UID:1470-1754164800-1754175600@thehomesteadpub.ca
SUMMARY:LIVE MUSIC - SOUL TO SQUEEZE
DESCRIPTION:
URL:https://thehomesteadpub.ca/evnet/live-music-soul-to-squeeze/
END:VEVENT
BEGIN:VEVENT
DTSTART;TZID=America/New_York:20250801T200000
DTEND;TZID=America/New_York:20250801T230000
DTSTAMP:20260423T065845
CREATED:20250721T165441Z
LAST-MODIFIED:20250802T041245Z
UID:1468-1754078400-1754089200@thehomesteadpub.ca
SUMMARY:LIVE MUSIC - 3 PISTOLS
DESCRIPTION:
URL:https://thehomesteadpub.ca/evnet/live-music-joe-sauve/
END:VEVENT
BEGIN:VEVENT
DTSTART;TZID=America/New_York:20250726T110000
DTEND;TZID=America/New_York:20250726T170000
DTSTAMP:20260423T065845
CREATED:20250716T044350Z
LAST-MODIFIED:20250721T164817Z
UID:1462-1753527600-1753549200@thehomesteadpub.ca
SUMMARY:CORNHOLE TOURNAMENT
DESCRIPTION:2 PERSON TEAMS/50$ PER TEAM
URL:https://thehomesteadpub.ca/evnet/cornhole-tournament/
END:VEVENT
BEGIN:VEVENT
DTSTART;TZID=America/New_York:20250715T170000
DTEND;TZID=America/New_York:20250715T200000
DTSTAMP:20260423T065845
CREATED:20250711T143208Z
LAST-MODIFIED:20250711T143208Z
UID:1449-1752598800-1752609600@thehomesteadpub.ca
SUMMARY:MEET ME ON MAIN STREET
DESCRIPTION:Homestead Pub will be attending “Meet Me on Main Street”.  Hope to see everyone there!!!
URL:https://thehomesteadpub.ca/evnet/meet-me-on-main-street/
LOCATION:Main St\, Consession St\, Russell\, ON\, Canada
END:VEVENT
END:VCALENDAR